BEGIN:VCALENDAR
VERSION:2.0
PRODID:-//Kości&oacute;ł Rektoralny św. Benona - ECPv6.15.20//NONSGML v1.0//EN
CALSCALE:GREGORIAN
METHOD:PUBLISH
X-WR-CALNAME:Kości&oacute;ł Rektoralny św. Benona
X-ORIGINAL-URL:https://benon.redemptor.pl
X-WR-CALDESC:Wydarzenia dla Kości&oacute;ł Rektoralny św. Benona
REFRESH-INTERVAL;VALUE=DURATION:PT1H
X-Robots-Tag:noindex
X-PUBLISHED-TTL:PT1H
BEGIN:VTIMEZONE
TZID:Europe/Warsaw
BEGIN:DAYLIGHT
TZOFFSETFROM:+0100
TZOFFSETTO:+0200
TZNAME:CEST
DTSTART:20250330T010000
END:DAYLIGHT
BEGIN:STANDARD
TZOFFSETFROM:+0200
TZOFFSETTO:+0100
TZNAME:CET
DTSTART:20251026T010000
END:STANDARD
BEGIN:DAYLIGHT
TZOFFSETFROM:+0100
TZOFFSETTO:+0200
TZNAME:CEST
DTSTART:20260329T010000
END:DAYLIGHT
BEGIN:STANDARD
TZOFFSETFROM:+0200
TZOFFSETTO:+0100
TZNAME:CET
DTSTART:20261025T010000
END:STANDARD
BEGIN:DAYLIGHT
TZOFFSETFROM:+0100
TZOFFSETTO:+0200
TZNAME:CEST
DTSTART:20270328T010000
END:DAYLIGHT
BEGIN:STANDARD
TZOFFSETFROM:+0200
TZOFFSETTO:+0100
TZNAME:CET
DTSTART:20271031T010000
END:STANDARD
END:VTIMEZONE
BEGIN:VEVENT
DTSTART;TZID=Europe/Warsaw:20260421T190000
DTEND;TZID=Europe/Warsaw:20260421T210000
DTSTAMP:20260419T135950
CREATED:20250106T072346Z
LAST-MODIFIED:20260405T064803Z
UID:3207-1776798000-1776805200@benon.redemptor.pl
SUMMARY:Spotkanie grupy biblijnej Światło wiary
DESCRIPTION:Spotykamy się aby rozważać Słowo Boże z najbliższej niedzieli oraz wspierać się modlitwą i budowaniem relacji opartych na wierze w Boga. \n\n\n\nSpotkanie rozpoczynamy o godz. 19.00 w sali przy kościele św. Benona. Na spotkanie zabierz ze sobą Pismo Święte.
URL:https://benon.redemptor.pl/wydarzenie/grupa-biblija-swiatlo-wiary/
LOCATION:Kościół św. Benona\, ul. Piesza 1\, Warszawa\, Mazowieckie\, 00-230\, Poland
CATEGORIES:Światło wiary
ATTACH;FMTTYPE=image/jpeg:https://benon.redemptor.pl/wp-content/uploads/2023/09/319A3E58-6E85-43D5-A3F0-70E3609A4D41_1_105_c.jpeg
END:VEVENT
BEGIN:VEVENT
DTSTART;TZID=Europe/Warsaw:20260422T163000
DTEND;TZID=Europe/Warsaw:20260422T180000
DTSTAMP:20260419T135950
CREATED:20260405T065229Z
LAST-MODIFIED:20260419T075126Z
UID:5060-1776875400-1776880800@benon.redemptor.pl
SUMMARY:Kurs Alpha dla młodziezy
DESCRIPTION:Zapraszamy na Kurs Alpha dla młodzieży (szkoła średnia i studenci). Rozpoczęcie w środę 15 kwietnia o godz. 16.30. \n\n\n\nKurs Alpha dla młodych to seria 10 spotkań\, gdzie można swobodnie podyskutować o Bogu\, wierze i sensie życia. To bezpieczna przestrzeń bez presji\, gdzie można zadawać trudne pytania\, jeść posiłek i poznawać nowych ludzi. Kurs jest bezpłatny i przeznaczony dla każdego\, kto szuka odpowiedzi. \n\n\n\nKażde spotkanie rozpczynamy smacznym posiłkiem. Nie trzeba się zapisywać. Kurs jest bezpłatny.  \n\n\n\nZapraszamy.
URL:https://benon.redemptor.pl/wydarzenie/kurs-alpha-dla-mlodziezy/
LOCATION:Kościół św. Benona\, ul. Piesza 1\, Warszawa\, Mazowieckie\, 00-230\, Poland
CATEGORIES:Kurs Alpha
ATTACH;FMTTYPE=image/jpeg:https://benon.redemptor.pl/wp-content/uploads/2026/04/Kurs-Alpha.jpg
END:VEVENT
BEGIN:VEVENT
DTSTART;TZID=Europe/Warsaw:20260426T170000
DTEND;TZID=Europe/Warsaw:20260426T190000
DTSTAMP:20260419T135950
CREATED:20230911T174642Z
LAST-MODIFIED:20260419T075523Z
UID:286-1777222800-1777230000@benon.redemptor.pl
SUMMARY:Msza święta i modlitwa uwielbienia
DESCRIPTION:Zapraszamy na comiesięczną Mszę świętą oraz adorację Najświętszego sakramentu i modlitwę uwielbienia.  \n\n\n\n16.30 – Spowiedź \n\n\n\n17.00 – Msza święta i Adoracja Najświętszego Sakramentu \n\n\n\nPo modlitwie zapraszamy do sali na kawę i herbatę. \n\n\n\nModlitwę  prowadzi wspólnota „Missio Christi”.
URL:https://benon.redemptor.pl/wydarzenie/msza-swieta-i-modlitwa-uwielbienia/
LOCATION:Kościół św. Benona\, ul. Piesza 1\, Warszawa\, Mazowieckie\, 00-230\, Poland
CATEGORIES:Msza święta
ATTACH;FMTTYPE=image/jpeg:https://benon.redemptor.pl/wp-content/uploads/2023/09/Uwielbienie_6.jpeg
END:VEVENT
BEGIN:VEVENT
DTSTART;TZID=Europe/Warsaw:20260430T190000
DTEND;TZID=Europe/Warsaw:20260430T210000
DTSTAMP:20260419T135950
CREATED:20260105T133752Z
LAST-MODIFIED:20260419T075000Z
UID:4949-1777575600-1777582800@benon.redemptor.pl
SUMMARY:Spotkanie dla mężczyzn
DESCRIPTION:Zapraszamy na spotkanie męskiej grupy przy kościele św. Benona. Celem grupy jest umocnienie wiary i wsparcie we wzroście duchowym w męskim gronie. \n\n\n\n19: 00 – Spotkanie w sali pod kościołem.
URL:https://benon.redemptor.pl/wydarzenie/spotkanie-dla-mezczyzn/
LOCATION:Kościół św. Benona\, ul. Piesza 1\, Warszawa\, Mazowieckie\, 00-230\, Poland
ATTACH;FMTTYPE=image/jpeg:https://benon.redemptor.pl/wp-content/uploads/2026/01/mezczyzna_1.jpg
END:VEVENT
BEGIN:VEVENT
DTSTART;TZID=Europe/Warsaw:20260507T110000
DTEND;TZID=Europe/Warsaw:20260507T140000
DTSTAMP:20260419T135950
CREATED:20230921T055958Z
LAST-MODIFIED:20260419T075218Z
UID:851-1778151600-1778162400@benon.redemptor.pl
SUMMARY:Spotkanie dla kobiet - Grupa św. Anny
DESCRIPTION:Grupa św. Anny zaprasza na spotkanie dla kobiet. Celem jest wspólna modlitwa\, formacja duchowa\, budowanie relacji oraz poszukiwanie sposobów wsparcia kobiet. \n\n\n\nPlan spotkania \n\n\n\n11.00 – Adoracja Najświętszego Sakramentu \n\n\n\n11.30 – Msza Święta z homilią \n\n\n\n12.15 – Zawiązanie wspólnoty \n\n\n\n12.45 – Spotkanie tematyczne \n\n\n\nZakończenie ok. 14.00 \n\n\n\nOpieka duchowa: o. Paweł Drobot CSsR.
URL:https://benon.redemptor.pl/wydarzenie/spotkanie-dla-kobiet/
LOCATION:Kościół św. Benona\, ul. Piesza 1\, Warszawa\, Mazowieckie\, 00-230\, Poland
CATEGORIES:Spotkanie kobiet
ATTACH;FMTTYPE=image/jpeg:https://benon.redemptor.pl/wp-content/uploads/2024/12/Emaus_Warszawa_12_2024_36.jpeg
END:VEVENT
BEGIN:VEVENT
DTSTART;TZID=Europe/Warsaw:20260512T190000
DTEND;TZID=Europe/Warsaw:20260512T210000
DTSTAMP:20260419T135950
CREATED:20251014T121452Z
LAST-MODIFIED:20260419T075419Z
UID:4756-1778612400-1778619600@benon.redemptor.pl
SUMMARY:Razem w misji. Formacja uczniów - misjonarzy
DESCRIPTION:„Razem w misji” to cykl katechez dla dorosłych\, których celem jest odnowa i umocnienie wiary oraz formacja świadomych uczniów – misjonarzy w oparciu o nauczanie Kościoła Katolickiego. \n\n\n\nSpotkania odbywają się raz w miesiącu we wtorek dla osób na poszczególnych rocznikach. \n\n\n\n19.00 – Msza święta \n\n\n\nKatechezy dla roczników od 1 do 4.
URL:https://benon.redemptor.pl/wydarzenie/razem-w-misji-formacja-uczniow-misjonarzy-2/
LOCATION:Kościół św. Benona\, ul. Piesza 1\, Warszawa\, Mazowieckie\, 00-230\, Poland
CATEGORIES:Światło wiary
ATTACH;FMTTYPE=image/jpeg:https://benon.redemptor.pl/wp-content/uploads/2023/09/misja.jpeg
END:VEVENT
BEGIN:VEVENT
DTSTART;TZID=Europe/Warsaw:20260516T090000
DTEND;TZID=Europe/Warsaw:20260516T170000
DTSTAMP:20260419T135950
CREATED:20230911T175159Z
LAST-MODIFIED:20260419T075044Z
UID:288-1778922000-1778950800@benon.redemptor.pl
SUMMARY:Spotkanie dla kobiet Dzielne Niewiasty
DESCRIPTION:Zapraszamy na spotkanie dla kobiet każdego wieku i stanu „Dzielne Niewiasty”. \n\n\n\nSpotkanie składa się z dwóch części: warsztatowej i duchowej. \n\n\n\nWarsztaty rozpoczynają się o godz. 9.00. Część duchowa rozpoczyna się Mszą świętą o godz. 13.30. Następnie jest nauczanie tematyczne i dzielenie w małych grupach. \n\n\n\nZe względów organizacyjnych na warsztaty obowiązują zapisy. \n\n\n\nNa część duchową zapraszamy Panie bez konieczności zapisywania się.  \n\n\n\nWięcej informacji i zapisy na warsztaty na stronie www.dzielneniewiasty.pl
URL:https://benon.redemptor.pl/wydarzenie/spotkanie-dla-kobiet-dzielne-niewiasty/
LOCATION:Kościół św. Benona\, ul. Piesza 1\, Warszawa\, Mazowieckie\, 00-230\, Poland
CATEGORIES:Dzielne Niewiasty,Msza święta
ATTACH;FMTTYPE=image/jpeg:https://benon.redemptor.pl/wp-content/uploads/2023/09/pexels-photo-3289167.jpeg
END:VEVENT
BEGIN:VEVENT
DTSTART;TZID=Europe/Warsaw:20260523T200000
DTEND;TZID=Europe/Warsaw:20260523T235900
DTSTAMP:20260419T135950
CREATED:20250513T161440Z
LAST-MODIFIED:20251118T192029Z
UID:4552-1779566400-1779580740@benon.redemptor.pl
SUMMARY:Wigilia Zesłania Ducha Świętego
DESCRIPTION:Zapraszamy na czuwanie modlitewne w Wigilię Uroczystości Zesłania Ducha Świętego. \n\n\n\nRozpoczęcie o godz. 20.00. W programie modlitwa uwielbienia\, nauczanie\, modlitwa wstawiennicza\, adoracja Najświetszego Sakramentu. W trakcie czuwania przewidziana jest przerwa oraz możliwość skorzystania z kawiarenki.  \n\n\n\n23.00 – Msza święta Wigilii Zesłania Ducha Świętego.
URL:https://benon.redemptor.pl/wydarzenie/wigilia-zeslania-ducha-swietego/
LOCATION:Kościół św. Benona\, ul. Piesza 1\, Warszawa\, Mazowieckie\, 00-230\, Poland
CATEGORIES:Msza święta,Wieczór uwielbienia
ATTACH;FMTTYPE=image/jpeg:https://benon.redemptor.pl/wp-content/uploads/2025/05/pentecote.jpg
END:VEVENT
BEGIN:VEVENT
DTSTART;TZID=Europe/Warsaw:20260719T113000
DTEND;TZID=Europe/Warsaw:20260719T160000
DTSTAMP:20260419T135950
CREATED:20240617T194610Z
LAST-MODIFIED:20251118T191921Z
UID:3378-1784460600-1784476800@benon.redemptor.pl
SUMMARY:Niedziela Najświętszego Odkupiciela
DESCRIPTION:Zapraszamy na uroczystości odpustowe do kościoła rektoralnego św. Benona. Okazją do świętowania jest Niedziela Najświętszego Odkupiciela – święto patronalne Zgromadzenia Najświętszego Odkupiciela. \n\n\n\nProgam uroczystości \n\n\n\n12.00 – Msza święta  \n\n\n\n13.30 – Piknik ewangelizacyjny
URL:https://benon.redemptor.pl/wydarzenie/niedziela-najswietszego-odkupiciela/
LOCATION:Kościół św. Benona\, ul. Piesza 1\, Warszawa\, Mazowieckie\, 00-230\, Poland
CATEGORIES:Msza święta
ATTACH;FMTTYPE=image/jpeg:https://benon.redemptor.pl/wp-content/uploads/2024/07/Najswietszy-Odkupiciel.jpg
END:VEVENT
BEGIN:VEVENT
DTSTART;TZID=Europe/Warsaw:20261009T170000
DTEND;TZID=Europe/Warsaw:20261011T180000
DTSTAMP:20260419T135950
CREATED:20240409T073440Z
LAST-MODIFIED:20260308T095549Z
UID:2448-1791565200-1791741600@benon.redemptor.pl
SUMMARY:Kurs Nowe Życie
DESCRIPTION:Zapraszamy na kurs Nowe Życie\, który odbędzie się w dniach 12 – 14 września 2025 r. przy kościele rektoralnym św. Benona w Warszawie (ul. Piesza 1). \n\n\n\nKurs Nowe Życie to swego rodzaju laboratorium wiary\, którego celem jest danie doświadczenia zbawienia Bożego przez osobiste spotkanie z Jezusem zmartwychwstałym i nowe wylanie Ducha Świętego\, który sprawia\, że rodzimy się na nowo\, aby żyć jak dzieci Boże i dziedzice Jego Królestwa we wspólnocie Kościoła. \n\n\n\nKurs rozpoczyna się o godz. 17.00 od recepcji i kolacji\, a następnie o godzinie 18.00 rozpoczną się pierwsze zajęcia. W sobotę kurs trwa od 9.00 do 21.00\, a w niedzielę od 9.00 i kończy się o 15.00. \n\n\n\nOsoby\, które w piątek chcą być na Mszy świętej\, prosimy aby uczestniczyły rano. Wieczorem w czasie kursu nie jest planowana Msza święta. W sobotę i w niedzielę w czasie kursu będzie natomiast celebrowana Eucharystia. \n\n\n\nKoszty: zostaną podane w momencie otworzenia zapisów. \n\n\n\nKurs dochodzony. Organizatorzy nie zapewniają noclegu. \n\n\n\nPo wysłaniu zgłoszenia prosimy o wpłatę zadatku w wysokości 100 zł\,  który zostanie przeznaczony na przygotowanie kursu. Wpłata zadatku jest potwierdzeniem udziału w kursie.Zadatek nie podlega zwrotowi. Prosimy o przemyślane decyzje. \n\n\n\nZapraszamy! \n\n\n\nProwadzący: Szkoła Ewangelizacji Matki Bożej Nieustającej Pomocy (Warszawa) \n\n\n\nMiejsce: Kościół rektoralny św. Benona\, Warszawa\, ul. Piesza 1. \n\n\n\nSzczegółowe informacje dotyczące kursu prześlemy do Ciebie w mailu przed jego rozpoczęciem. \n\n\n\nPolecamy ten czas Twojej modlitwie! \n\n\n\nZapisy od czerwca 2026.
URL:https://benon.redemptor.pl/wydarzenie/kurs-nowe-zycie/
LOCATION:Kościół św. Benona\, ul. Piesza 1\, Warszawa\, Mazowieckie\, 00-230\, Poland
CATEGORIES:Rekolekcje,Szkoła Ewangelizacji MBNP
ATTACH;FMTTYPE=image/jpeg:https://benon.redemptor.pl/wp-content/uploads/2026/03/uwielbienie-2.jpg
END:VEVENT
BEGIN:VEVENT
DTSTART;TZID=Europe/Warsaw:20261204T170000
DTEND;TZID=Europe/Warsaw:20261206T150000
DTSTAMP:20260419T135950
CREATED:20250602T134420Z
LAST-MODIFIED:20260308T095907Z
UID:4576-1796403600-1796569200@benon.redemptor.pl
SUMMARY:Kurs Maria Magdalena
DESCRIPTION:Zapraszamy na rekolekcje dla kobiet „Maria Magdalena”. \n\n\n\nW czasie rekolekcji będziesz mogła na nowo ucieszyć się swoją kobiecością i dowiedzieć się\, jak realizować to powołanie w pełni\, bo Bóg przecież wszystkie nas do tego uzdolnił. Zapraszamy Ciebie\, abyś zaczęła na nowo odkrywać\, co to znaczy być kobietą. Abyś zatrzymała się nad tym\, w co wyposażył Cię Bóg\, stwarzając Cię kobietą. Być może jesteś na początku odkrywania swojej kobiecości\, poznawania siebie\, lub jesteś kobietą zapracowaną\, ciągle w biegu\, zmęczoną i niemającą czasu dla siebie. Może przestałaś czerpać radość z bycia kobietą\, żoną\, mamą\, przyjaciółką. Pozwól Kurs dla kobiet pełnoletnich w każdym powołaniu stanowym. \n\n\n\nRamowy plan kursu: Piątek 4 grudnia 2026: Recepcja od godz. 17.30. Zakończenie kończenie ok. 21.00. Sobota 5 grudnia: Rozpoczęcie o godz. 9.00. Zakończenie dnia ok. 21.00. Niedziela 6 grudnia: rozpoczęcie: 9.00. Zakończenie: ok. 14.00. \n\n\n\nUwaga: W piątek nie ma Mszy świętej dla uczestniczek kursu. Jeżeli chcesz wziąć udział w Eucharystii\, możesz to uczynić rano. W sobotę i w niedzielę w planie kursu jest Msza święta. \n\n\n\nKoszty: zostaną podane w momencie otwarcia zapisów. \n\n\n\nKurs prowadzi: Szkoła Ewangelizacji Diecezji Toruńskiej Św. Jana Umiłowanego Ucznia oraz Szkoła Ewangelizacji Matki Bożej Nieustającej Pomocy (Warszawa). \n\n\n\nPatronat: Duszpasterstwo Kobiet Archidiecezji Warszawskiej. \n\n\n\nMiejsce: Kościół św Benona\, ul. Piesza 1\, Warszawa.Zapisy od września 2026.
URL:https://benon.redemptor.pl/wydarzenie/kurs-maria-magdalena/
LOCATION:Kościół św. Benona\, ul. Piesza 1\, Warszawa\, Mazowieckie\, 00-230\, Poland
CATEGORIES:Dzielne Niewiasty,Rekolekcje,Szkoła Ewangelizacji MBNP
ATTACH;FMTTYPE=image/jpeg:https://benon.redemptor.pl/wp-content/uploads/2025/06/kobieta.jpeg
END:VEVENT
END:VCALENDAR